BEGIN:VCALENDAR
VERSION:2.0
PRODID:-//Richard Reichbart - ECPv6.15.3//NONSGML v1.0//EN
CALSCALE:GREGORIAN
METHOD:PUBLISH
X-ORIGINAL-URL:https://richardreichbart.com
X-WR-CALDESC:Events for Richard Reichbart
REFRESH-INTERVAL;VALUE=DURATION:PT1H
X-Robots-Tag:noindex
X-PUBLISHED-TTL:PT1H
BEGIN:VTIMEZONE
TZID:UTC
BEGIN:STANDARD
TZOFFSETFROM:+0000
TZOFFSETTO:+0000
TZNAME:UTC
DTSTART:20190101T000000
END:STANDARD
END:VTIMEZONE
BEGIN:VEVENT
DTSTART;TZID=UTC:20190306T080000
DTEND;TZID=UTC:20190306T170000
DTSTAMP:20260422T195107
CREATED:20190212T175622Z
LAST-MODIFIED:20190212T175622Z
UID:134-1551859200-1551891600@richardreichbart.com
SUMMARY:Book Reading: Paranormal Surround Us
DESCRIPTION:Example Text
URL:https://richardreichbart.com/event/book-reading-paranormal-surround-us/
CATEGORIES:book signings
END:VEVENT
END:VCALENDAR